BEGIN:VCALENDAR
VERSION:2.0
PRODID:-//Pandion Music Foundation - ECPv6.15.20//NONSGML v1.0//EN
CALSCALE:GREGORIAN
METHOD:PUBLISH
X-WR-CALNAME:Pandion Music Foundation
X-ORIGINAL-URL:https://pandionmusicfoundation.wpcomstaging.com
X-WR-CALDESC:Events for Pandion Music Foundation
REFRESH-INTERVAL;VALUE=DURATION:PT1H
X-Robots-Tag:noindex
X-PUBLISHED-TTL:PT1H
BEGIN:VTIMEZONE
TZID:America/Los_Angeles
BEGIN:DAYLIGHT
TZOFFSETFROM:-0800
TZOFFSETTO:-0700
TZNAME:PDT
DTSTART:20220313T100000
END:DAYLIGHT
BEGIN:STANDARD
TZOFFSETFROM:-0700
TZOFFSETTO:-0800
TZNAME:PST
DTSTART:20221106T090000
END:STANDARD
BEGIN:DAYLIGHT
TZOFFSETFROM:-0800
TZOFFSETTO:-0700
TZNAME:PDT
DTSTART:20230312T100000
END:DAYLIGHT
BEGIN:STANDARD
TZOFFSETFROM:-0700
TZOFFSETTO:-0800
TZNAME:PST
DTSTART:20231105T090000
END:STANDARD
BEGIN:DAYLIGHT
TZOFFSETFROM:-0800
TZOFFSETTO:-0700
TZNAME:PDT
DTSTART:20240310T100000
END:DAYLIGHT
BEGIN:STANDARD
TZOFFSETFROM:-0700
TZOFFSETTO:-0800
TZNAME:PST
DTSTART:20241103T090000
END:STANDARD
END:VTIMEZONE
BEGIN:VEVENT
DTSTART;TZID=America/Los_Angeles:20230118T110000
DTEND;TZID=America/Los_Angeles:20230118T120000
DTSTAMP:20260425T075127
CREATED:20221223T020450Z
LAST-MODIFIED:20250813T084120Z
UID:21611-1674039600-1674043200@pandionmusicfoundation.wpcomstaging.com
SUMMARY:Voice acting\, composing\, and collaborating w/Maiah Manser
DESCRIPTION:Let your vocals do the work! The music industry is always full of surprises — for the good and the bad. In this workshop\, Los Angeles-based vocalist and producer\, Maiah Manser is here to share how the music industry has shown her some unexpected goodness over the past few years. Being an indie musician can be a huge challenge\, but sometimes there are more opportunity gems hidden in unexpected places. You just need to know where to go looking for them. So let’s go mining! Maiah has had song placements with Vogue Met Gala\, shows “Tidelands”\, “Good Behavior”\, “Lucifer” and is the vocalist for TV/Film scores “The Voyeurs” and “Devil In Ohio”. She’s also been featured by artists Mary Lambert\, Robotaki and Maxchalant amassing millions of streams. 								\n				\n					\n				\n		\n					\n				\n				\n							\n							\n																\n													\n									\n					\n						\n				\n					\n				\n		\n					\n				\n				\n									PMF replays are FREE to all. By signing up for our email list and newsletter you can support our work and help keep our offerings free of charge! Start each month with our email newsletter containing exciting upcoming events\, mentor highlights\, new music discovery\, and industry news! Submitting your email will also automatically register you for our no-cost weekly workshops\, with more details on our events page. You can opt out any time. 								\n				\n				\n				\n							\n			\n			\n			\n\n							\n			\n			\n								\n												\n								First Name							\n														\n											\n								\n												\n								Last Name							\n														\n											\n								\n												\n								Email							\n														\n											\n								\n					\n						\n															\n																										\n																						Signup
URL:https://pandionmusicfoundation.wpcomstaging.com/event/voice-acting-composing-and-collaborating-w-maiah-manser/
CATEGORIES:workshop
ATTACH;FMTTYPE=image/jpeg:https://pandionmusicfoundation.wpcomstaging.com/wp-content/uploads/2022/12/MaiahManserHeadshot.jpeg
END:VEVENT
END:VCALENDAR