BEGIN:VCALENDAR
VERSION:2.0
PRODID:-//Pandion Music Foundation - ECPv6.15.20//NONSGML v1.0//EN
CALSCALE:GREGORIAN
METHOD:PUBLISH
X-WR-CALNAME:Pandion Music Foundation
X-ORIGINAL-URL:https://pandionmusicfoundation.wpcomstaging.com
X-WR-CALDESC:Events for Pandion Music Foundation
REFRESH-INTERVAL;VALUE=DURATION:PT1H
X-Robots-Tag:noindex
X-PUBLISHED-TTL:PT1H
BEGIN:VTIMEZONE
TZID:America/Los_Angeles
BEGIN:DAYLIGHT
TZOFFSETFROM:-0800
TZOFFSETTO:-0700
TZNAME:PDT
DTSTART:20220313T100000
END:DAYLIGHT
BEGIN:STANDARD
TZOFFSETFROM:-0700
TZOFFSETTO:-0800
TZNAME:PST
DTSTART:20221106T090000
END:STANDARD
BEGIN:DAYLIGHT
TZOFFSETFROM:-0800
TZOFFSETTO:-0700
TZNAME:PDT
DTSTART:20230312T100000
END:DAYLIGHT
BEGIN:STANDARD
TZOFFSETFROM:-0700
TZOFFSETTO:-0800
TZNAME:PST
DTSTART:20231105T090000
END:STANDARD
BEGIN:DAYLIGHT
TZOFFSETFROM:-0800
TZOFFSETTO:-0700
TZNAME:PDT
DTSTART:20240310T100000
END:DAYLIGHT
BEGIN:STANDARD
TZOFFSETFROM:-0700
TZOFFSETTO:-0800
TZNAME:PST
DTSTART:20241103T090000
END:STANDARD
END:VTIMEZONE
BEGIN:VEVENT
DTSTART;TZID=America/Los_Angeles:20230706T110000
DTEND;TZID=America/Los_Angeles:20230706T120000
DTSTAMP:20260425T130344
CREATED:20230629T041340Z
LAST-MODIFIED:20250813T073846Z
UID:22799-1688641200-1688644800@pandionmusicfoundation.wpcomstaging.com
SUMMARY:Sync Licensing and Music Supervision w/Rashad Richardson
DESCRIPTION:Calling all indie artists!! At Pandion\, we love inviting mentors to discuss the ins-and-outs of sync licensing and music supervision\, because getting into the world of sync can be an amazing way for artists to build a more steady stream of income. Just like the old proverb says\, “good things take time\,” so does a sustainable career in music — and sync Licensing can be another tool in your toolbox to help strengthen your music career. We’ve invited Rashad Richardson to join us for a workshop to help further our knowledge and understanding of this area of the music business! Prior to founding Madden Flow Entertainment\, Rashad Richardson worked at Universal Music Publishing for nearly 5 years while licensing music for film/TV. He has pitched and licensed music that has landed in projects seen on ABC\, Amazon Prime\, CBS\, Hulu (FX)\, Netflix\, and more. Learn more about Madden Flow Entertainment here: https://www.maddenflowentertainment.com/ A great resource for music licensing: https://www.synchtank.com/ 								\n				\n					\n				\n		\n					\n				\n				\n							\n							\n																\n													\n									\n					\n						\n				\n					\n				\n		\n					\n				\n				\n									PMF replays are FREE to all. By signing up for our email list and newsletter you can support our work and help keep our offerings free of charge! Start each month with our email newsletter containing exciting upcoming events\, mentor highlights\, new music discovery\, and industry news! Submitting your email will also automatically register you for our no-cost weekly workshops\, with more details on our events page. You can opt out any time. 								\n				\n				\n				\n							\n			\n			\n			\n\n							\n			\n			\n								\n												\n								First Name							\n														\n											\n								\n												\n								Last Name							\n														\n											\n								\n												\n								Email							\n														\n											\n								\n					\n						\n															\n																										\n																						Signup
URL:https://pandionmusicfoundation.wpcomstaging.com/event/sync-licensing-and-music-supervision-w-rashad-richardson/
CATEGORIES:workshop
ATTACH;FMTTYPE=image/jpeg:https://pandionmusicfoundation.wpcomstaging.com/wp-content/uploads/2023/06/Rashad_headshot.jpeg
END:VEVENT
END:VCALENDAR