BEGIN:VCALENDAR
VERSION:2.0
PRODID:-//Pandion Music Foundation - ECPv6.15.20//NONSGML v1.0//EN
CALSCALE:GREGORIAN
METHOD:PUBLISH
X-WR-CALNAME:Pandion Music Foundation
X-ORIGINAL-URL:https://pandionmusicfoundation.wpcomstaging.com
X-WR-CALDESC:Events for Pandion Music Foundation
REFRESH-INTERVAL;VALUE=DURATION:PT1H
X-Robots-Tag:noindex
X-PUBLISHED-TTL:PT1H
BEGIN:VTIMEZONE
TZID:America/Los_Angeles
BEGIN:DAYLIGHT
TZOFFSETFROM:-0800
TZOFFSETTO:-0700
TZNAME:PDT
DTSTART:20220313T100000
END:DAYLIGHT
BEGIN:STANDARD
TZOFFSETFROM:-0700
TZOFFSETTO:-0800
TZNAME:PST
DTSTART:20221106T090000
END:STANDARD
BEGIN:DAYLIGHT
TZOFFSETFROM:-0800
TZOFFSETTO:-0700
TZNAME:PDT
DTSTART:20230312T100000
END:DAYLIGHT
BEGIN:STANDARD
TZOFFSETFROM:-0700
TZOFFSETTO:-0800
TZNAME:PST
DTSTART:20231105T090000
END:STANDARD
BEGIN:DAYLIGHT
TZOFFSETFROM:-0800
TZOFFSETTO:-0700
TZNAME:PDT
DTSTART:20240310T100000
END:DAYLIGHT
BEGIN:STANDARD
TZOFFSETFROM:-0700
TZOFFSETTO:-0800
TZNAME:PST
DTSTART:20241103T090000
END:STANDARD
END:VTIMEZONE
BEGIN:VEVENT
DTSTART;TZID=America/Los_Angeles:20230104T153000
DTEND;TZID=America/Los_Angeles:20230104T163000
DTSTAMP:20260423T002431
CREATED:20221214T042321Z
LAST-MODIFIED:20250813T084552Z
UID:21552-1672846200-1672849800@pandionmusicfoundation.wpcomstaging.com
SUMMARY:Sync licensing and metadata w/Michèle Vice-Maslin
DESCRIPTION:Think about all the music that has been put out there on the interweb since streaming platforms were developed. Decades and centuries of music at our fingertips! Now imagine it as a real-life library of songs; mile-long isles and shelves as high as skyscrapers. What would that library look like if there was no way to organize it? No way to keep track of who the music belongs to? Well without metadata\, the songs that are released out into the world would have no link to the artists that create them. PRO’s (performance rights organizations) need this information to properly credit songwriters and those involved in the recording of music\, so that artists get their royalties and the credit for their works. Emmy Winning\, #1 hit music producer/arranger\, songwriter\, and publisher\, Michèle Vice-Maslin is here to give us the whole story\, and share the importance of this thing we call “metadata.” 								\n				\n					\n		\n					\n		\n		\n					\n				\n				\n							\n							\n																\n													\n									\n					\n						\n				\n					\n				\n		\n					\n				\n				\n									PMF replays are FREE to all. By signing up for our email list and newsletter you can support our work and help keep our offerings free of charge! Start each month with our email newsletter containing exciting upcoming events\, mentor highlights\, new music discovery\, and industry news! Submitting your email will also automatically register you for our no-cost weekly workshops\, with more details on our events page. You can opt out any time. 								\n				\n				\n				\n							\n			\n			\n			\n\n							\n			\n			\n								\n												\n								First Name							\n														\n											\n								\n												\n								Last Name							\n														\n											\n								\n												\n								Email							\n														\n											\n								\n					\n						\n															\n																										\n																						Signup
URL:https://pandionmusicfoundation.wpcomstaging.com/event/sync-licensing-and-metadata-w-michele-vice-maslin-2/
CATEGORIES:workshop
ATTACH;FMTTYPE=image/jpeg:https://pandionmusicfoundation.wpcomstaging.com/wp-content/uploads/2022/12/Vice-Maslin-Michele-Emmy-5.jpg
END:VEVENT
END:VCALENDAR