BEGIN:VCALENDAR
VERSION:2.0
PRODID:-//Pandion Music Foundation - ECPv6.15.20//NONSGML v1.0//EN
CALSCALE:GREGORIAN
METHOD:PUBLISH
X-WR-CALNAME:Pandion Music Foundation
X-ORIGINAL-URL:https://pandionmusicfoundation.wpcomstaging.com
X-WR-CALDESC:Events for Pandion Music Foundation
REFRESH-INTERVAL;VALUE=DURATION:PT1H
X-Robots-Tag:noindex
X-PUBLISHED-TTL:PT1H
BEGIN:VTIMEZONE
TZID:America/Los_Angeles
BEGIN:DAYLIGHT
TZOFFSETFROM:-0800
TZOFFSETTO:-0700
TZNAME:PDT
DTSTART:20220313T100000
END:DAYLIGHT
BEGIN:STANDARD
TZOFFSETFROM:-0700
TZOFFSETTO:-0800
TZNAME:PST
DTSTART:20221106T090000
END:STANDARD
BEGIN:DAYLIGHT
TZOFFSETFROM:-0800
TZOFFSETTO:-0700
TZNAME:PDT
DTSTART:20230312T100000
END:DAYLIGHT
BEGIN:STANDARD
TZOFFSETFROM:-0700
TZOFFSETTO:-0800
TZNAME:PST
DTSTART:20231105T090000
END:STANDARD
BEGIN:DAYLIGHT
TZOFFSETFROM:-0800
TZOFFSETTO:-0700
TZNAME:PDT
DTSTART:20240310T100000
END:DAYLIGHT
BEGIN:STANDARD
TZOFFSETFROM:-0700
TZOFFSETTO:-0800
TZNAME:PST
DTSTART:20241103T090000
END:STANDARD
END:VTIMEZONE
BEGIN:VEVENT
DTSTART;TZID=America/Los_Angeles:20230301T110000
DTEND;TZID=America/Los_Angeles:20230301T120000
DTSTAMP:20260423T174028
CREATED:20230223T214225Z
LAST-MODIFIED:20250813T083242Z
UID:21886-1677668400-1677672000@pandionmusicfoundation.wpcomstaging.com
SUMMARY:Sync mentoring w/Amira Gadd
DESCRIPTION:Who better to get sync advice from than the ultimate sync expert\, songwriter and lyricist\, Amira Gadd! Amira is a mentor\, consultant\, panelist\, moderator and speaker in the sync world\, sharing what she knows about the music industry with others eager to learn. And we’re here for it! There is limitless knowledge to learn about the world of sync\, so hearing different perspectives\, experiences\, and expertise is of utmost value as a music creator looking to get their music placed. Let’s dive in! Join us for Amira’s workshop\, and make sure to stick around for the live Q&A at the end! 								\n				\n					\n		\n					\n		\n		\n					\n				\n				\n							\n							\n																\n													\n									\n					\n						\n				\n					\n				\n		\n					\n				\n				\n									PMF replays are FREE to all. By signing up for our email list and newsletter you can support our work and help keep our offerings free of charge! Start each month with our email newsletter containing exciting upcoming events\, mentor highlights\, new music discovery\, and industry news! Submitting your email will also automatically register you for our no-cost weekly workshops\, with more details on our events page. You can opt out any time. 								\n				\n				\n				\n							\n			\n			\n			\n\n							\n			\n			\n								\n												\n								First Name							\n														\n											\n								\n												\n								Last Name							\n														\n											\n								\n												\n								Email							\n														\n											\n								\n					\n						\n															\n																										\n																						Signup
URL:https://pandionmusicfoundation.wpcomstaging.com/event/sync-advice-from-amira-gadd-2/
CATEGORIES:workshop
ATTACH;FMTTYPE=image/png:https://pandionmusicfoundation.wpcomstaging.com/wp-content/uploads/2023/02/F55F2390-FD44-4BC2-BDF4-9BC3A43D8B0E.png
END:VEVENT
END:VCALENDAR