BEGIN:VCALENDAR
VERSION:2.0
PRODID:-//Pandion Music Foundation - ECPv6.15.20//NONSGML v1.0//EN
CALSCALE:GREGORIAN
METHOD:PUBLISH
X-WR-CALNAME:Pandion Music Foundation
X-ORIGINAL-URL:https://pandionmusicfoundation.wpcomstaging.com
X-WR-CALDESC:Events for Pandion Music Foundation
REFRESH-INTERVAL;VALUE=DURATION:PT1H
X-Robots-Tag:noindex
X-PUBLISHED-TTL:PT1H
BEGIN:VTIMEZONE
TZID:America/Los_Angeles
BEGIN:DAYLIGHT
TZOFFSETFROM:-0800
TZOFFSETTO:-0700
TZNAME:PDT
DTSTART:20230312T100000
END:DAYLIGHT
BEGIN:STANDARD
TZOFFSETFROM:-0700
TZOFFSETTO:-0800
TZNAME:PST
DTSTART:20231105T090000
END:STANDARD
BEGIN:DAYLIGHT
TZOFFSETFROM:-0800
TZOFFSETTO:-0700
TZNAME:PDT
DTSTART:20240310T100000
END:DAYLIGHT
BEGIN:STANDARD
TZOFFSETFROM:-0700
TZOFFSETTO:-0800
TZNAME:PST
DTSTART:20241103T090000
END:STANDARD
BEGIN:DAYLIGHT
TZOFFSETFROM:-0800
TZOFFSETTO:-0700
TZNAME:PDT
DTSTART:20250309T100000
END:DAYLIGHT
BEGIN:STANDARD
TZOFFSETFROM:-0700
TZOFFSETTO:-0800
TZNAME:PST
DTSTART:20251102T090000
END:STANDARD
END:VTIMEZONE
BEGIN:VEVENT
DTSTART;TZID=America/Los_Angeles:20240131T110000
DTEND;TZID=America/Los_Angeles:20240131T120000
DTSTAMP:20260425T203532
CREATED:20231227T023710Z
LAST-MODIFIED:20250813T053058Z
UID:24139-1706698800-1706702400@pandionmusicfoundation.wpcomstaging.com
SUMMARY:How to Write Music for Sync Without Writing Music FOR Sync w/John Newcomer
DESCRIPTION:We are thrilled to have the ability to host opportunities for independent musicians to meet industry experts every month – giving them a platform to connect with professionals who are typically more challenging to reach\, as well as the chance for a behind-the-scenes look at each individual’s music journey. We’re excited to welcome John Newcomer who has worked in music licensing in some capacity for nearly 20 years. He is here to share the secrets behind writing music for sync\, while still maintaining the music’s artistry and authenticity. John started out as a freelance graphic designer for the music industry and parlayed that into a full-time position at Bank Robber Music and Rough Trade Publishing pitching music for sync licensing opportunities. 								\n				\n					\n				\n		\n					\n				\n				\n							\n							\n																\n													\n									\n					\n						\n				\n					\n				\n		\n					\n				\n				\n									PMF replays are FREE to all. By signing up for our email list and newsletter you can support our work and help keep our offerings free of charge! Start each month with our email newsletter containing exciting upcoming events\, mentor highlights\, new music discovery\, and industry news! Submitting your email will also automatically register you for our no-cost weekly workshops\, with more details on our events page. You can opt out any time. 								\n				\n				\n				\n							\n			\n			\n			\n\n							\n			\n			\n								\n												\n								First Name							\n														\n											\n								\n												\n								Last Name							\n														\n											\n								\n												\n								Email							\n														\n											\n								\n					\n						\n															\n																										\n																						Signup
URL:https://pandionmusicfoundation.wpcomstaging.com/event/how-to-write-music-for-sync-w-john-newcomer/
CATEGORIES:workshop
ATTACH;FMTTYPE=image/jpeg:https://pandionmusicfoundation.wpcomstaging.com/wp-content/uploads/2023/12/John-Newcomer-Headshot-2023-2.jpeg
END:VEVENT
END:VCALENDAR